BEGIN:VCALENDAR
VERSION:2.0
PRODID:-//ChamberMaster//Event Calendar 2.0//EN
METHOD:PUBLISH
X-PUBLISHED-TTL:P1H
REFRESH-INTERVAL:P1H
CALSCALE:GREGORIAN
BEGIN:VTIMEZONE
TZID:America/New_York
BEGIN:DAYLIGHT
RRULE:FREQ=YEARLY;BYMONTH=3;BYDAY=2SU
DTSTART:20070101T000000
TZOFFSETFROM:-0500
TZOFFSETTO:-0400
TZNAME:Eastern Daylight Time
END:DAYLIGHT
BEGIN:STANDARD
RRULE:FREQ=YEARLY;BYMONTH=11;BYDAY=1SU
DTSTART:20070101T000000
TZOFFSETFROM:-0400
TZOFFSETTO:-0500
TZNAME:Eastern Standard Time
END:STANDARD
END:VTIMEZONE
BEGIN:VEVENT
DTSTART;TZID=America/New_York:20260417T100000
DTEND;TZID=America/New_York:20260419T140000
X-MICROSOFT-CDO-ALLDAYEVENT:FALSE
SUMMARY:Drawing Realistic Portrait Features with Artist Christina Mastrangelo
DESCRIPTION:Drawing Realistic Portrait Features with Master Artist Christina MastrangeloFri/Sat/Sun\, April 17\,18\,19\, 2026 10am-2pm$370 for future members\, $330 for membersRefine your portrait skills by focusing on individual facial features using graphite. In this new workshop\, Classical Realist artist Christina Mastrangelo will guide you through the facial features\, one feature at a time\, including the eye\, nose\, and mouth. We will explore the anatomy and form of each\, with guided demonstrations\, informative lectures\, and in-class drawing time to set the practice in place. Participants will work at their own pace and receive personalized guidance as they create their realistic drawings. This is a great way to improve the likeness of your own portraits! All levels are welcome.To learn more or sign up on our website\, please visit: Adult Programs
X-ALT-DESC;FMTTYPE=text/html:<!DOCTYPE html><html><head><title></title></head><body aria-disabled="false"><p style='box-sizing: border-box\; padding: 0px 0px 12px\; margin: 0px\; color: rgb(88\, 81\, 99)\; font-family: "Neue Plak"\, -apple-system\, BlinkMacSystemFont\, Roboto\, "Helvetica Neue"\, Helvetica\, Tahoma\, Arial\, sans-serif\; font-size: 18px\; font-style: normal\; font-variant-ligatures: normal\; font-variant-caps: normal\; font-weight: 400\; letter-spacing: 0.1px\; orphans: 2\; text-align: start\; text-indent: 0px\; text-transform: none\; widows: 2\; word-spacing: 0px\; -webkit-text-stroke-width: 0px\; white-space: normal\; text-decoration-thickness: initial\; text-decoration-style: initial\; text-decoration-color: initial\;'><strong fr-original-style="box-sizing: border-box\; padding: 0px\; margin: 0px\; font-weight: 600\;" style="box-sizing: border-box\; padding: 0px\; margin: 0px\; font-weight: 600\;"><strong fr-original-style="box-sizing: border-box\; padding: 0px\; margin: 0px\; font-weight: 600\;" style="box-sizing: border-box\; padding: 0px\; margin: 0px\; font-weight: 600\;">Drawing Realistic Portrait Features with Master Artist Christina Mastrangelo</strong></strong></p><p style='box-sizing: border-box\; padding: 0px 0px 12px\; margin: 12px 0px 0px\; color: rgb(88\, 81\, 99)\; font-family: "Neue Plak"\, -apple-system\, BlinkMacSystemFont\, Roboto\, "Helvetica Neue"\, Helvetica\, Tahoma\, Arial\, sans-serif\; font-size: 18px\; font-style: normal\; font-variant-ligatures: normal\; font-variant-caps: normal\; font-weight: 400\; letter-spacing: 0.1px\; orphans: 2\; text-align: start\; text-indent: 0px\; text-transform: none\; widows: 2\; word-spacing: 0px\; -webkit-text-stroke-width: 0px\; white-space: normal\; text-decoration-thickness: initial\; text-decoration-style: initial\; text-decoration-color: initial\;'>Fri/Sat/Sun\, April 17\,18\,19\, 2026 10am-2pm</p><p style='box-sizing: border-box\; padding: 0px 0px 12px\; margin: 12px 0px 0px\; color: rgb(88\, 81\, 99)\; font-family: "Neue Plak"\, -apple-system\, BlinkMacSystemFont\, Roboto\, "Helvetica Neue"\, Helvetica\, Tahoma\, Arial\, sans-serif\; font-size: 18px\; font-style: normal\; font-variant-ligatures: normal\; font-variant-caps: normal\; font-weight: 400\; letter-spacing: 0.1px\; orphans: 2\; text-align: start\; text-indent: 0px\; text-transform: none\; widows: 2\; word-spacing: 0px\; -webkit-text-stroke-width: 0px\; white-space: normal\; text-decoration-thickness: initial\; text-decoration-style: initial\; text-decoration-color: initial\;'>$370 for future members\, $330 for members</p><p style='box-sizing: border-box\; padding: 0px 0px 12px\; margin: 12px 0px 0px\; color: rgb(88\, 81\, 99)\; font-family: "Neue Plak"\, -apple-system\, BlinkMacSystemFont\, Roboto\, "Helvetica Neue"\, Helvetica\, Tahoma\, Arial\, sans-serif\; font-size: 18px\; font-style: normal\; font-variant-ligatures: normal\; font-variant-caps: normal\; font-weight: 400\; letter-spacing: 0.1px\; orphans: 2\; text-align: start\; text-indent: 0px\; text-transform: none\; widows: 2\; word-spacing: 0px\; -webkit-text-stroke-width: 0px\; white-space: normal\; text-decoration-thickness: initial\; text-decoration-style: initial\; text-decoration-color: initial\;'>Refine your portrait skills by focusing on individual facial features using graphite. In this new workshop\, Classical Realist artist Christina Mastrangelo will guide you through the facial features\, one feature at a time\, including the eye\, nose\, and mouth. We will explore the anatomy and form of each\, with guided demonstrations\, informative lectures\, and in-class drawing time to set the practice in place. Participants will work at their own pace and receive personalized guidance as they create their realistic drawings. This is a great way to improve the likeness of your own portraits! All levels are welcome.</p><p style='box-sizing: border-box\; padding: 0px 0px 12px\; margin: 12px 0px 0px\; color: rgb(88\, 81\, 99)\; font-family: "Neue Plak"\, -apple-system\, BlinkMacSystemFont\, Roboto\, "Helvetica Neue"\, Helvetica\, Tahoma\, Arial\, sans-serif\; font-size: 18px\; font-style: normal\; font-variant-ligatures: normal\; font-variant-caps: normal\; font-weight: 400\; letter-spacing: 0.1px\; orphans: 2\; text-align: start\; text-indent: 0px\; text-transform: none\; widows: 2\; word-spacing: 0px\; -webkit-text-stroke-width: 0px\; white-space: normal\; text-decoration-thickness: initial\; text-decoration-style: initial\; text-decoration-color: initial\;'>To learn more or sign up on our website\, please visit:&nbsp\;<a data-msys-clicktrack="0" fr-original-style="box-sizing: border-box\; padding: 0px\; margin: 0px\; color: rgb(54\, 89\, 227)\; text-decoration: underline\;" href="https://firstcoastculturalcenter.org/programs-events/adult-art-programs" rel="nofollow noopener noreferrer" style="box-sizing: border-box\; padding: 0px\; margin: 0px\; color: rgb(54\, 89\, 227)\; text-decoration: underline\; user-select: auto\;" target="_blank" title="https://firstcoastculturalcenter.org/programs-events/adult-art-programs">Adult Programs</a></p></body></html>
LOCATION:6000B Sawgrass Village Circle Ponte Vedra FL 32082
UID:e.3841.1395950
SEQUENCE:3
DTSTAMP:20260421T024507Z
URL:https://business.sjcchamber.com/community-events/Details/drawing-realistic-portrait-features-with-artist-christina-mastrangelo-1649542?sourceTypeId=Hub
END:VEVENT
END:VCALENDAR
